BEGIN:VCALENDAR
VERSION:2.0
PRODID:-//İstanbul Edebiyat Kulübü - ECPv6.5.0.1//NONSGML v1.0//EN
CALSCALE:GREGORIAN
METHOD:PUBLISH
X-ORIGINAL-URL:https://istanbuledebiyatkulubu.org
X-WR-CALDESC:İstanbul Edebiyat Kulübü için etkinlikler
REFRESH-INTERVAL;VALUE=DURATION:PT1H
X-Robots-Tag:noindex
X-PUBLISHED-TTL:PT1H
BEGIN:VTIMEZONE
TZID:UTC
BEGIN:STANDARD
TZOFFSETFROM:+0000
TZOFFSETTO:+0000
TZNAME:UTC
DTSTART:20250101T000000
END:STANDARD
END:VTIMEZONE
BEGIN:VEVENT
DTSTART;TZID=UTC:20250224T210000
DTEND;TZID=UTC:20250224T233000
DTSTAMP:20260420T145508
CREATED:20250217T120336Z
LAST-MODIFIED:20250217T120336Z
UID:1311-1740430800-1740439800@istanbuledebiyatkulubu.org
SUMMARY:Maria- Kadikoy Sinemasi
DESCRIPTION:Etkinliklerimize sadece kulüp üyelerimiz katılabilmektedir. Sizler de kulübümüzün bir parçası olmak isterseniz sitemiz üzerinden üyelik formu doldurabilirsiniz. Sonrasında sıranız geldiğinde sizinle whatsapp üzerinden iletişime geçeceğiz. Daha detaylı bilgi almak isterseniz 0533 620 89 14 numaralı telefondan kulüp Koordinatörümüz Burhan Bey ile görüşebilirsiniz.
URL:https://istanbuledebiyatkulubu.org/etkinlik/maria-kadikoy-sinemasi/
END:VEVENT
END:VCALENDAR