BEGIN:VCALENDAR
VERSION:2.0
PRODID:-//İstanbul Edebiyat Kulübü - ECPv6.5.0.1//NONSGML v1.0//EN
CALSCALE:GREGORIAN
METHOD:PUBLISH
X-WR-CALNAME:İstanbul Edebiyat Kulübü
X-ORIGINAL-URL:https://istanbuledebiyatkulubu.org
X-WR-CALDESC:İstanbul Edebiyat Kulübü için etkinlikler
REFRESH-INTERVAL;VALUE=DURATION:PT1H
X-Robots-Tag:noindex
X-PUBLISHED-TTL:PT1H
BEGIN:VTIMEZONE
TZID:UTC
BEGIN:STANDARD
TZOFFSETFROM:+0000
TZOFFSETTO:+0000
TZNAME:UTC
DTSTART:20250101T000000
END:STANDARD
END:VTIMEZONE
BEGIN:VEVENT
DTSTART;TZID=UTC:20250301T150000
DTEND;TZID=UTC:20250301T170000
DTSTAMP:20260420T145242
CREATED:20250123T115830Z
LAST-MODIFIED:20250123T115830Z
UID:1302-1740841200-1740848400@istanbuledebiyatkulubu.org
SUMMARY:Şvayk- Üsküdar Muhasipzade Sahnesi
DESCRIPTION:Etkinliklerimize sadece kulüp üyelerimiz katılabilmektedir. Sizler de kulübümüzün bir parçası olmak isterseniz sitemiz üzerinden üyelik formu doldurabilirsiniz. Sonrasında sıranız geldiğinde sizinle whatsapp üzerinden iletişime geçeceğiz. Daha detaylı bilgi almak isterseniz 0533 620 89 14 numaralı telefondan kulüp Koordinatörümüz Burhan Bey ile görüşebilirsiniz.
URL:https://istanbuledebiyatkulubu.org/etkinlik/svayk-uskudar-muhasipzade-sahnesi/
END:VEVENT
END:VCALENDAR