BEGIN:VCALENDAR
VERSION:2.0
PRODID:-//İstanbul Edebiyat Kulübü - ECPv6.5.0.1//NONSGML v1.0//EN
CALSCALE:GREGORIAN
METHOD:PUBLISH
X-ORIGINAL-URL:https://istanbuledebiyatkulubu.org
X-WR-CALDESC:İstanbul Edebiyat Kulübü için etkinlikler
REFRESH-INTERVAL;VALUE=DURATION:PT1H
X-Robots-Tag:noindex
X-PUBLISHED-TTL:PT1H
BEGIN:VTIMEZONE
TZID:UTC
BEGIN:STANDARD
TZOFFSETFROM:+0000
TZOFFSETTO:+0000
TZNAME:UTC
DTSTART:20250101T000000
END:STANDARD
END:VTIMEZONE
BEGIN:VEVENT
DTSTART;TZID=UTC:20250504T150000
DTEND;TZID=UTC:20250504T170000
DTSTAMP:20260420T120249
CREATED:20250407T061403Z
LAST-MODIFIED:20250407T061403Z
UID:1343-1746370800-1746378000@istanbuledebiyatkulubu.org
SUMMARY:Monologlar Muzesi- Yuvakimyon Rum Kız Lisesi
DESCRIPTION:Etkinliklerimize sadece kulup üyelerimiz katilabilmektedir. Sizler de kulübümüzün bir parçası olmak isterseniz sitemiz üzerinden üyelik formu doldurabilirsiniz. Sonrasında sıranız geldiğinde sizinle whatsapp üzerinden iletişime geçeceğiz. Daha detaylı bilgi almak isterseniz 0533 620 89 14 numaralı telefondan kulüp Koordinatörümüz Burhan Bey’e ulaşabilirsiniz. Sorularınızı yanitlayacaktir.
URL:https://istanbuledebiyatkulubu.org/etkinlik/monologlar-muzesi-yuvakimyon-rum-kiz-lisesi/
END:VEVENT
END:VCALENDAR