BEGIN:VCALENDAR
VERSION:2.0
PRODID:-//İstanbul Edebiyat Kulübü - ECPv6.5.0.1//NONSGML v1.0//EN
CALSCALE:GREGORIAN
METHOD:PUBLISH
X-WR-CALNAME:İstanbul Edebiyat Kulübü
X-ORIGINAL-URL:https://istanbuledebiyatkulubu.org
X-WR-CALDESC:İstanbul Edebiyat Kulübü için etkinlikler
REFRESH-INTERVAL;VALUE=DURATION:PT1H
X-Robots-Tag:noindex
X-PUBLISHED-TTL:PT1H
BEGIN:VTIMEZONE
TZID:UTC
BEGIN:STANDARD
TZOFFSETFROM:+0000
TZOFFSETTO:+0000
TZNAME:UTC
DTSTART:20250101T000000
END:STANDARD
END:VTIMEZONE
BEGIN:VEVENT
DTSTART;TZID=UTC:20250601T143000
DTEND;TZID=UTC:20250601T170000
DTSTAMP:20260420T102848
CREATED:20250506T114724Z
LAST-MODIFIED:20250506T114724Z
UID:1454-1748788200-1748797200@istanbuledebiyatkulubu.org
SUMMARY:Şimdi Buradaydı-Irmak Zileli (Yazarin Katılımıyla)
DESCRIPTION:Etkinliklerimize sadece kulup üyelerimiz katilabilmektedir. Sizler de kulübümüzün bir parçası olmak isterseniz sitemiz üzerinden üyelik formu doldurabilirsiniz. Sonrasında sıranız geldiğinde sizinle whatsapp üzerinden iletişime geçeceğiz. Ancak kulübe alınmadan önce kulüp ortamını görmek ve kulüple tanışmak isterseniz kontenjanımızın uygun olması durumunda toplantılarımıza sınırlı sayıda misafir kabul edebiliyoruz. Daha detaylı bilgi almak isterseniz 0533 620 89 14 numaralı telefondan kulüp Koordinatörümüz Burhan Bey’e ulaşabilirsiniz. Sorularınızı yanitlayacaktir
URL:https://istanbuledebiyatkulubu.org/etkinlik/simdi-buradaydi-irmak-zileli-yazarin-katilimiyla/
END:VEVENT
END:VCALENDAR