BEGIN:VCALENDAR
VERSION:2.0
PRODID:-//İstanbul Edebiyat Kulübü - ECPv6.5.0.1//NONSGML v1.0//EN
CALSCALE:GREGORIAN
METHOD:PUBLISH
X-WR-CALNAME:İstanbul Edebiyat Kulübü
X-ORIGINAL-URL:https://istanbuledebiyatkulubu.org
X-WR-CALDESC:İstanbul Edebiyat Kulübü için etkinlikler
REFRESH-INTERVAL;VALUE=DURATION:PT1H
X-Robots-Tag:noindex
X-PUBLISHED-TTL:PT1H
BEGIN:VTIMEZONE
TZID:UTC
BEGIN:STANDARD
TZOFFSETFROM:+0000
TZOFFSETTO:+0000
TZNAME:UTC
DTSTART:20250101T000000
END:STANDARD
END:VTIMEZONE
BEGIN:VEVENT
DTSTART;TZID=UTC:20250301T150000
DTEND;TZID=UTC:20250301T170000
DTSTAMP:20260420T132830
CREATED:20250123T115830Z
LAST-MODIFIED:20250123T115830Z
UID:1302-1740841200-1740848400@istanbuledebiyatkulubu.org
SUMMARY:Şvayk- Üsküdar Muhasipzade Sahnesi
DESCRIPTION:Etkinliklerimize sadece kulüp üyelerimiz katılabilmektedir. Sizler de kulübümüzün bir parçası olmak isterseniz sitemiz üzerinden üyelik formu doldurabilirsiniz. Sonrasında sıranız geldiğinde sizinle whatsapp üzerinden iletişime geçeceğiz. Daha detaylı bilgi almak isterseniz 0533 620 89 14 numaralı telefondan kulüp Koordinatörümüz Burhan Bey ile görüşebilirsiniz.
URL:https://istanbuledebiyatkulubu.org/etkinlik/svayk-uskudar-muhasipzade-sahnesi/
END:VEVENT
BEGIN:VEVENT
DTSTART;TZID=UTC:20250302T203000
DTEND;TZID=UTC:20250302T230000
DTSTAMP:20260420T132830
CREATED:20250217T122641Z
LAST-MODIFIED:20250217T122641Z
UID:1316-1740947400-1740956400@istanbuledebiyatkulubu.org
SUMMARY:Esaretin Bedeli- Taksim AKM Sahnesi
DESCRIPTION:Etkinliklerimize sadece kulüp üyelerimiz katılabilmektedir. Sizler de kulübümüzün bir parçası olmak isterseniz sitemiz üzerinden üyelik formu doldurabilirsiniz. Sonrasında sıranız geldiğinde sizinle whatsapp üzerinden iletişime geçeceğiz. Daha detaylı bilgi almak isterseniz 0533 620 89 14 numaralı telefondan kulüp Koordinatörümüz Burhan Bey ile görüşebilirsiniz.
URL:https://istanbuledebiyatkulubu.org/etkinlik/esaretin-bedeli-taksim-akm-sahnesi/
END:VEVENT
BEGIN:VEVENT
DTSTART;TZID=UTC:20250315T203000
DTEND;TZID=UTC:20250315T233000
DTSTAMP:20260420T132830
CREATED:20250217T122727Z
LAST-MODIFIED:20250217T122727Z
UID:1318-1742070600-1742081400@istanbuledebiyatkulubu.org
SUMMARY:Katip Bartleby- Cihangir Atölye Sahnesi
DESCRIPTION:Etkinliklerimize sadece kulüp üyelerimiz katılabilmektedir. Sizler de kulübümüzün bir parçası olmak isterseniz sitemiz üzerinden üyelik formu doldurabilirsiniz. Sonrasında sıranız geldiğinde sizinle whatsapp üzerinden iletişime geçeceğiz. Daha detaylı bilgi almak isterseniz 0533 620 89 14 numaralı telefondan kulüp Koordinatörümüz Burhan Bey ile görüşebilirsiniz.
URL:https://istanbuledebiyatkulubu.org/etkinlik/katip-bartleby-cihangir-atolye-sahnesi/
END:VEVENT
BEGIN:VEVENT
DTSTART;TZID=UTC:20250316T140000
DTEND;TZID=UTC:20250316T170000
DTSTAMP:20260420T132830
CREATED:20250217T122841Z
LAST-MODIFIED:20250217T122841Z
UID:1320-1742133600-1742144400@istanbuledebiyatkulubu.org
SUMMARY:Bir Kış Gecesi Eğer Bir Yolcu- Italo Calvino
DESCRIPTION:Etkinliklerimize sadece kulüp üyelerimiz katılabilmektedir. Sizler de kulübümüzün bir parçası olmak isterseniz sitemiz üzerinden üyelik formu doldurabilirsiniz. Sonrasında sıranız geldiğinde sizinle whatsapp üzerinden iletişime geçeceğiz. Daha detaylı bilgi almak isterseniz 0533 620 89 14 numaralı telefondan kulüp Koordinatörümüz Burhan Bey ile görüşebilirsiniz.
URL:https://istanbuledebiyatkulubu.org/etkinlik/bir-kis-gecesi-eger-bir-yolcu-italo-calvino-2/
END:VEVENT
BEGIN:VEVENT
DTSTART;TZID=UTC:20250324T203000
DTEND;TZID=UTC:20250324T223000
DTSTAMP:20260420T132830
CREATED:20250407T061042Z
LAST-MODIFIED:20250407T061042Z
UID:1336-1742848200-1742855400@istanbuledebiyatkulubu.org
SUMMARY:Gecmisin Golgesi- Uskudar Kerem Yılmazer Sahnesi
DESCRIPTION:Etkinliklerimize sadece kulup üyelerimiz katilabilmektedir. Sizler de kulübümüzün bir parçası olmak isterseniz sitemiz üzerinden üyelik formu doldurabilirsiniz. Sonrasında sıranız geldiğinde sizinle whatsapp üzerinden iletişime geçeceğiz. Daha detaylı bilgi almak isterseniz 0533 620 89 14 numaralı telefondan kulüp Koordinatörümüz Burhan Bey’e ulaşabilirsiniz. Sorularınızı yanitlayacaktir.
URL:https://istanbuledebiyatkulubu.org/etkinlik/gecmisin-golgesi-uskudar-kerem-yilmazer-sahnesi/
END:VEVENT
BEGIN:VEVENT
DTSTART;TZID=UTC:20250326T203000
DTEND;TZID=UTC:20250326T223000
DTSTAMP:20260420T132830
CREATED:20250217T122931Z
LAST-MODIFIED:20250217T122931Z
UID:1322-1743021000-1743028200@istanbuledebiyatkulubu.org
SUMMARY:Romeo ve Juliet- Taksim AKM Sahnesi
DESCRIPTION:Etkinliklerimize sadece kulüp üyelerimiz katılabilmektedir. Sizler de kulübümüzün bir parçası olmak isterseniz sitemiz üzerinden üyelik formu doldurabilirsiniz. Sonrasında sıranız geldiğinde sizinle whatsapp üzerinden iletişime geçeceğiz. Daha detaylı bilgi almak isterseniz 0533 620 89 14 numaralı telefondan kulüp Koordinatörümüz Burhan Bey ile görüşebilirsiniz.
URL:https://istanbuledebiyatkulubu.org/etkinlik/romeo-ve-juliet-taksim-akm-sahnesi-2/
END:VEVENT
END:VCALENDAR