BEGIN:VCALENDAR
VERSION:2.0
PRODID:-//İstanbul Edebiyat Kulübü - ECPv6.5.0.1//NONSGML v1.0//EN
CALSCALE:GREGORIAN
METHOD:PUBLISH
X-WR-CALNAME:İstanbul Edebiyat Kulübü
X-ORIGINAL-URL:https://istanbuledebiyatkulubu.org
X-WR-CALDESC:İstanbul Edebiyat Kulübü için etkinlikler
REFRESH-INTERVAL;VALUE=DURATION:PT1H
X-Robots-Tag:noindex
X-PUBLISHED-TTL:PT1H
BEGIN:VTIMEZONE
TZID:UTC
BEGIN:STANDARD
TZOFFSETFROM:+0000
TZOFFSETTO:+0000
TZNAME:UTC
DTSTART:20250101T000000
END:STANDARD
END:VTIMEZONE
BEGIN:VEVENT
DTSTART;TZID=UTC:20250411T203000
DTEND;TZID=UTC:20250411T220000
DTSTAMP:20260420T120234
CREATED:20250407T060630Z
LAST-MODIFIED:20250407T060630Z
UID:1328-1744403400-1744408800@istanbuledebiyatkulubu.org
SUMMARY:Iki Efendinin Uşağı Alaturka-Cihangir Atolye Sahnesi
DESCRIPTION:Etkinliklerimize sadece kulup üyelerimiz katilabilmektedir. Sizler de kulübümüzün bir parçası olmak isterseniz sitemiz üzerinden üyelik formu doldurabilirsiniz. Sonrasında sıranız geldiğinde sizinle whatsapp üzerinden iletişime geçeceğiz. Daha detaylı bilgi almak isterseniz 0533 620 89 14 numaralı telefondan kulüp Koordinatörümüz Burhan Bey’e ulaşabilirsiniz. Sorularınızı yanitlayacaktir.
URL:https://istanbuledebiyatkulubu.org/etkinlik/iki-efendinin-usagi-alaturka-cihangir-atolye-sahnesi-2/
END:VEVENT
BEGIN:VEVENT
DTSTART;TZID=UTC:20250412T083000
DTEND;TZID=UTC:20250412T223000
DTSTAMP:20260420T120234
CREATED:20250407T060731Z
LAST-MODIFIED:20250407T060731Z
UID:1330-1744446600-1744497000@istanbuledebiyatkulubu.org
SUMMARY:9/8'lik Kıyamet- Kadikoy Boa Sahne
DESCRIPTION:Etkinliklerimize sadece kulup üyelerimiz katilabilmektedir. Sizler de kulübümüzün bir parçası olmak isterseniz sitemiz üzerinden üyelik formu doldurabilirsiniz. Sonrasında sıranız geldiğinde sizinle whatsapp üzerinden iletişime geçeceğiz. Daha detaylı bilgi almak isterseniz 0533 620 89 14 numaralı telefondan kulüp Koordinatörümüz Burhan Bey’e ulaşabilirsiniz. Sorularınızı yanitlayacaktir.
URL:https://istanbuledebiyatkulubu.org/etkinlik/9-8lik-kiyamet-kadikoy-boa-sahne-2/
END:VEVENT
BEGIN:VEVENT
DTSTART;TZID=UTC:20250413T140000
DTEND;TZID=UTC:20250413T170000
DTSTAMP:20260420T120234
CREATED:20250407T060831Z
LAST-MODIFIED:20250407T060831Z
UID:1332-1744552800-1744563600@istanbuledebiyatkulubu.org
SUMMARY:Kızıl Darı Tarlaları- Mo Yan
DESCRIPTION:Etkinliklerimize sadece kulup üyelerimiz katilabilmektedir. Sizler de kulübümüzün bir parçası olmak isterseniz sitemiz üzerinden üyelik formu doldurabilirsiniz. Sonrasında sıranız geldiğinde sizinle whatsapp üzerinden iletişime geçeceğiz. Daha detaylı bilgi almak isterseniz 0533 620 89 14 numaralı telefondan kulüp Koordinatörümüz Burhan Bey’e ulaşabilirsiniz. Sorularınızı yanitlayacaktir.
URL:https://istanbuledebiyatkulubu.org/etkinlik/kizil-dari-tarlalari-mo-yan/
END:VEVENT
BEGIN:VEVENT
DTSTART;TZID=UTC:20250422T203000
DTEND;TZID=UTC:20250422T230000
DTSTAMP:20260420T120234
CREATED:20250407T060945Z
LAST-MODIFIED:20250407T060945Z
UID:1334-1745353800-1745362800@istanbuledebiyatkulubu.org
SUMMARY:Bar Fedaisi Aziz Nesin Hikaye Dinletisi- Is Sanat Kuleleri
DESCRIPTION:Etkinliklerimize sadece kulup üyelerimiz katilabilmektedir. Sizler de kulübümüzün bir parçası olmak isterseniz sitemiz üzerinden üyelik formu doldurabilirsiniz. Sonrasında sıranız geldiğinde sizinle whatsapp üzerinden iletişime geçeceğiz. Daha detaylı bilgi almak isterseniz 0533 620 89 14 numaralı telefondan kulüp Koordinatörümüz Burhan Bey’e ulaşabilirsiniz. Sorularınızı yanitlayacaktir.
URL:https://istanbuledebiyatkulubu.org/etkinlik/bar-fedaisi-aziz-nesin-hikaye-dinletisi-is-sanat-kuleleri/
END:VEVENT
BEGIN:VEVENT
DTSTART;TZID=UTC:20250424T203000
DTEND;TZID=UTC:20250424T230000
DTSTAMP:20260420T120234
CREATED:20250409T111435Z
LAST-MODIFIED:20250409T111435Z
UID:1353-1745526600-1745535600@istanbuledebiyatkulubu.org
SUMMARY:Gecmisin Golgesi- Uskudar  Kerem Yılmazer Sahnesi
DESCRIPTION:Etkinliklerimize sadece kulup üyelerimiz katilabilmektedir. Sizler de kulübümüzün bir parçası olmak isterseniz sitemiz üzerinden üyelik formu doldurabilirsiniz. Sonrasında sıranız geldiğinde sizinle whatsapp üzerinden iletişime geçeceğiz. Daha detaylı bilgi almak isterseniz 0533 620 89 14 numaralı telefondan kulüp Koordinatörümüz Burhan Bey’e ulaşabilirsiniz.
URL:https://istanbuledebiyatkulubu.org/etkinlik/gecmisin-golgesi-uskudar-kerem-yilmazer-sahnesi-2/
END:VEVENT
BEGIN:VEVENT
DTSTART;TZID=UTC:20250426T203000
DTEND;TZID=UTC:20250426T230000
DTSTAMP:20260420T120234
CREATED:20250407T061158Z
LAST-MODIFIED:20250407T061158Z
UID:1338-1745699400-1745708400@istanbuledebiyatkulubu.org
SUMMARY:Yoldan Çıkan Oyun- Uskudar Musahipzade Sahnesi
DESCRIPTION:Etkinliklerimize sadece kulup üyelerimiz katilabilmektedir. Sizler de kulübümüzün bir parçası olmak isterseniz sitemiz üzerinden üyelik formu doldurabilirsiniz. Sonrasında sıranız geldiğinde sizinle whatsapp üzerinden iletişime geçeceğiz. Daha detaylı bilgi almak isterseniz 0533 620 89 14 numaralı telefondan kulüp Koordinatörümüz Burhan Bey’e ulaşabilirsiniz. Sorularınızı yanitlayacaktir.
URL:https://istanbuledebiyatkulubu.org/etkinlik/yoldan-cikan-oyun-uskudar-musahipzade-sahnesi/
END:VEVENT
BEGIN:VEVENT
DTSTART;TZID=UTC:20250430T203000
DTEND;TZID=UTC:20250430T230000
DTSTAMP:20260420T120234
CREATED:20250407T061239Z
LAST-MODIFIED:20250407T061239Z
UID:1341-1746045000-1746054000@istanbuledebiyatkulubu.org
SUMMARY:Zabel- Kadikoy Moda Sahnesi
DESCRIPTION:Etkinliklerimize sadece kulup üyelerimiz katilabilmektedir. Sizler de kulübümüzün bir parçası olmak isterseniz sitemiz üzerinden üyelik formu doldurabilirsiniz. Sonrasında sıranız geldiğinde sizinle whatsapp üzerinden iletişime geçeceğiz. Daha detaylı bilgi almak isterseniz 0533 620 89 14 numaralı telefondan kulüp Koordinatörümüz Burhan Bey’e ulaşabilirsiniz. Sorularınızı yanitlayacaktir.
URL:https://istanbuledebiyatkulubu.org/etkinlik/zabel-kadikoy-moda-sahnesi/
END:VEVENT
END:VCALENDAR