BEGIN:VCALENDAR
VERSION:2.0
PRODID:-//İstanbul Edebiyat Kulübü - ECPv6.5.0.1//NONSGML v1.0//EN
CALSCALE:GREGORIAN
METHOD:PUBLISH
X-WR-CALNAME:İstanbul Edebiyat Kulübü
X-ORIGINAL-URL:https://istanbuledebiyatkulubu.org
X-WR-CALDESC:İstanbul Edebiyat Kulübü için etkinlikler
REFRESH-INTERVAL;VALUE=DURATION:PT1H
X-Robots-Tag:noindex
X-PUBLISHED-TTL:PT1H
BEGIN:VTIMEZONE
TZID:UTC
BEGIN:STANDARD
TZOFFSETFROM:+0000
TZOFFSETTO:+0000
TZNAME:UTC
DTSTART:20250101T000000
END:STANDARD
END:VTIMEZONE
BEGIN:VEVENT
DTSTART;TZID=UTC:20250504T150000
DTEND;TZID=UTC:20250504T170000
DTSTAMP:20260420T103040
CREATED:20250407T061403Z
LAST-MODIFIED:20250407T061403Z
UID:1343-1746370800-1746378000@istanbuledebiyatkulubu.org
SUMMARY:Monologlar Muzesi- Yuvakimyon Rum Kız Lisesi
DESCRIPTION:Etkinliklerimize sadece kulup üyelerimiz katilabilmektedir. Sizler de kulübümüzün bir parçası olmak isterseniz sitemiz üzerinden üyelik formu doldurabilirsiniz. Sonrasında sıranız geldiğinde sizinle whatsapp üzerinden iletişime geçeceğiz. Daha detaylı bilgi almak isterseniz 0533 620 89 14 numaralı telefondan kulüp Koordinatörümüz Burhan Bey’e ulaşabilirsiniz. Sorularınızı yanitlayacaktir.
URL:https://istanbuledebiyatkulubu.org/etkinlik/monologlar-muzesi-yuvakimyon-rum-kiz-lisesi/
END:VEVENT
BEGIN:VEVENT
DTSTART;TZID=UTC:20250506T203000
DTEND;TZID=UTC:20250506T223000
DTSTAMP:20260420T103040
CREATED:20250506T114411Z
LAST-MODIFIED:20250506T114411Z
UID:1450-1746563400-1746570600@istanbuledebiyatkulubu.org
SUMMARY:Tırtıl GPT-148- Kadıköy Pax Sahne
DESCRIPTION:Etkinliklerimize sadece kulup üyelerimiz katilabilmektedir. Sizler de kulübümüzün bir parçası olmak isterseniz sitemiz üzerinden üyelik formu doldurabilirsiniz. Sonrasında sıranız geldiğinde sizinle whatsapp üzerinden iletişime geçeceğiz. Ancak kulübe alınmadan önce kulüp ortamını görmek ve kulüple tanışmak isterseniz kontenjanımızın uygun olması durumunda toplantılarımıza sınırlı sayıda misafir kabul edebiliyoruz. Daha detaylı bilgi almak isterseniz 0533 620 89 14 numaralı telefondan kulüp Koordinatörümüz Burhan Bey’e ulaşabilirsiniz. Sorularınızı yanitlayacaktir
URL:https://istanbuledebiyatkulubu.org/etkinlik/tirtil-gpt-148-kadikoy-pax-sahne/
END:VEVENT
BEGIN:VEVENT
DTSTART;TZID=UTC:20250516T203000
DTEND;TZID=UTC:20250516T230000
DTSTAMP:20260420T103040
CREATED:20250506T114514Z
LAST-MODIFIED:20250506T114514Z
UID:1452-1747427400-1747436400@istanbuledebiyatkulubu.org
SUMMARY:Gözbağcı- Kadıköy Pax Sahne
DESCRIPTION:Etkinliklerimize sadece kulup üyelerimiz katilabilmektedir. Sizler de kulübümüzün bir parçası olmak isterseniz sitemiz üzerinden üyelik formu doldurabilirsiniz. Sonrasında sıranız geldiğinde sizinle whatsapp üzerinden iletişime geçeceğiz. Ancak kulübe alınmadan önce kulüp ortamını görmek ve kulüple tanışmak isterseniz kontenjanımızın uygun olması durumunda toplantılarımıza sınırlı sayıda misafir kabul edebiliyoruz. Daha detaylı bilgi almak isterseniz 0533 620 89 14 numaralı telefondan kulüp Koordinatörümüz Burhan Bey’e ulaşabilirsiniz. Sorularınızı yanitlayacaktir
URL:https://istanbuledebiyatkulubu.org/etkinlik/gozbagci-kadikoy-pax-sahne/
END:VEVENT
BEGIN:VEVENT
DTSTART;TZID=UTC:20250522T203000
DTEND;TZID=UTC:20250522T233000
DTSTAMP:20260420T103040
CREATED:20250407T061505Z
LAST-MODIFIED:20250407T061505Z
UID:1346-1747945800-1747956600@istanbuledebiyatkulubu.org
SUMMARY:Sultans Of Opera Dogudan Batiya Barok Konseri- Taksim AKM Sahnesi
DESCRIPTION:Etkinliklerimize sadece kulup üyelerimiz katilabilmektedir. Sizler de kulübümüzün bir parçası olmak isterseniz sitemiz üzerinden üyelik formu doldurabilirsiniz. Sonrasında sıranız geldiğinde sizinle whatsapp üzerinden iletişime geçeceğiz. Daha detaylı bilgi almak isterseniz 0533 620 89 14 numaralı telefondan kulüp Koordinatörümüz Burhan Bey’e ulaşabilirsiniz. Sorularınızı yanitlayacaktir.
URL:https://istanbuledebiyatkulubu.org/etkinlik/sultans-of-opera-dogudan-batiya-barok-konseri-taksim-akm-sahnesi/
END:VEVENT
BEGIN:VEVENT
DTSTART;TZID=UTC:20250525T140000
DTEND;TZID=UTC:20250525T170000
DTSTAMP:20260420T103040
CREATED:20250407T061604Z
LAST-MODIFIED:20250407T061604Z
UID:1348-1748181600-1748192400@istanbuledebiyatkulubu.org
SUMMARY:Dağın Öte Yüzü Üçlemesi- Yaşar Kemal
DESCRIPTION:Etkinliklerimize sadece kulup üyelerimiz katilabilmektedir. Sizler de kulübümüzün bir parçası olmak isterseniz sitemiz üzerinden üyelik formu doldurabilirsiniz. Sonrasında sıranız geldiğinde sizinle whatsapp üzerinden iletişime geçeceğiz. Daha detaylı bilgi almak isterseniz 0533 620 89 14 numaralı telefondan kulüp Koordinatörümüz Burhan Bey’e ulaşabilirsiniz. Sorularınızı yanitlayacaktir.
URL:https://istanbuledebiyatkulubu.org/etkinlik/dagin-ote-yuzu-uclemesi-yasar-kemal/
END:VEVENT
BEGIN:VEVENT
DTSTART;TZID=UTC:20250530T203000
DTEND;TZID=UTC:20250530T220000
DTSTAMP:20260420T103040
CREATED:20250407T061711Z
LAST-MODIFIED:20250407T061711Z
UID:1350-1748637000-1748642400@istanbuledebiyatkulubu.org
SUMMARY:Deliriyum (Modern Dans) - Taksim AKM Sahnesi
DESCRIPTION:Etkinliklerimize sadece kulup üyelerimiz katilabilmektedir. Sizler de kulübümüzün bir parçası olmak isterseniz sitemiz üzerinden üyelik formu doldurabilirsiniz. Sonrasında sıranız geldiğinde sizinle whatsapp üzerinden iletişime geçeceğiz. Daha detaylı bilgi almak isterseniz 0533 620 89 14 numaralı telefondan kulüp Koordinatörümüz Burhan Bey’e ulaşabilirsiniz. Sorularınızı yanitlayacaktir.
URL:https://istanbuledebiyatkulubu.org/etkinlik/deliriyum-modern-dans-taksim-akm-sahnesi/
END:VEVENT
END:VCALENDAR