BEGIN:VCALENDAR
VERSION:2.0
PRODID:-//İstanbul Edebiyat Kulübü - ECPv6.5.0.1//NONSGML v1.0//EN
CALSCALE:GREGORIAN
METHOD:PUBLISH
X-WR-CALNAME:İstanbul Edebiyat Kulübü
X-ORIGINAL-URL:https://istanbuledebiyatkulubu.org
X-WR-CALDESC:İstanbul Edebiyat Kulübü için etkinlikler
REFRESH-INTERVAL;VALUE=DURATION:PT1H
X-Robots-Tag:noindex
X-PUBLISHED-TTL:PT1H
BEGIN:VTIMEZONE
TZID:UTC
BEGIN:STANDARD
TZOFFSETFROM:+0000
TZOFFSETTO:+0000
TZNAME:UTC
DTSTART:20250101T000000
END:STANDARD
END:VTIMEZONE
BEGIN:VEVENT
DTSTART;TZID=UTC:20250918T200000
DTEND;TZID=UTC:20250918T220000
DTSTAMP:20260420T034616
CREATED:20250918T060756Z
LAST-MODIFIED:20251013T060907Z
UID:1476-1758225600-1758232800@istanbuledebiyatkulubu.org
SUMMARY:King's Singer- Süreyya Opera Sahnesi
DESCRIPTION:Etkinliklerimize sadece kulup üyelerimiz katilabilmektedir. Sizler de kulübümüzün bir parçası olmak isterseniz sitemiz üzerinden üyelik formu doldurabilirsiniz. Sonrasında sıranız geldiğinde sizinle whatsapp üzerinden iletişime geçeceğiz. Ancak kulübe alınmadan önce kulüp ortamını görmek ve kulüple tanışmak isterseniz kontenjanımızın uygun olması durumunda toplantılarımıza sınırlı sayıda misafir kabul edebiliyoruz. Daha detaylı bilgi almak isterseniz 0533 620 89 14 numaralı telefondan kulüp Koordinatörümüz Burhan Bey’e ulaşabilirsiniz. Sorularınızı yanitlayacaktir.
URL:https://istanbuledebiyatkulubu.org/etkinlik/kings-singer-sureyya-opera-sahnesi/
END:VEVENT
BEGIN:VEVENT
DTSTART;TZID=UTC:20250920T203000
DTEND;TZID=UTC:20250920T233000
DTSTAMP:20260420T034616
CREATED:20251013T061211Z
LAST-MODIFIED:20251013T061211Z
UID:1484-1758400200-1758411000@istanbuledebiyatkulubu.org
SUMMARY:En Sevdiğinden Başla- Kadıköy Boa Sahne
DESCRIPTION:Etkinliklerimize sadece kulup üyelerimiz katilabilmektedir. Sizler de kulübümüzün bir parçası olmak isterseniz sitemiz üzerinden üyelik formu doldurabilirsiniz. Sonrasında sıranız geldiğinde sizinle whatsapp üzerinden iletişime geçeceğiz. Ancak kulübe alınmadan önce kulüp ortamını görmek ve kulüple tanışmak isterseniz kontenjanımızın uygun olması durumunda toplantılarımıza sınırlı sayıda misafir kabul edebiliyoruz. Daha detaylı bilgi almak isterseniz 0533 620 89 14 numaralı telefondan kulüp Koordinatörümüz Burhan Bey’e ulaşabilirsiniz. Sorularınızı yanitlayacaktir.
URL:https://istanbuledebiyatkulubu.org/etkinlik/en-sevdiginden-basla-kadikoy-boa-sahne/
END:VEVENT
BEGIN:VEVENT
DTSTART;TZID=UTC:20250921T140000
DTEND;TZID=UTC:20250921T170000
DTSTAMP:20260420T034616
CREATED:20251013T061002Z
LAST-MODIFIED:20251013T061109Z
UID:1480-1758463200-1758474000@istanbuledebiyatkulubu.org
SUMMARY:Şato- Franz Kafka
DESCRIPTION:Etkinliklerimize sadece kulup üyelerimiz katilabilmektedir. Sizler de kulübümüzün bir parçası olmak isterseniz sitemiz üzerinden üyelik formu doldurabilirsiniz. Sonrasında sıranız geldiğinde sizinle whatsapp üzerinden iletişime geçeceğiz. Ancak kulübe alınmadan önce kulüp ortamını görmek ve kulüple tanışmak isterseniz kontenjanımızın uygun olması durumunda toplantılarımıza sınırlı sayıda misafir kabul edebiliyoruz. Daha detaylı bilgi almak isterseniz 0533 620 89 14 numaralı telefondan kulüp Koordinatörümüz Burhan Bey’e ulaşabilirsiniz. Sorularınızı yanitlayacaktir.
URL:https://istanbuledebiyatkulubu.org/etkinlik/sato-franz-kafka/
END:VEVENT
BEGIN:VEVENT
DTSTART;TZID=UTC:20250930T200000
DTEND;TZID=UTC:20250930T233000
DTSTAMP:20260420T034616
CREATED:20251013T061253Z
LAST-MODIFIED:20251013T061253Z
UID:1486-1759262400-1759275000@istanbuledebiyatkulubu.org
SUMMARY:Sefiller - Taksim AKM Sahnesi
DESCRIPTION:Etkinliklerimize sadece kulup üyelerimiz katilabilmektedir. Sizler de kulübümüzün bir parçası olmak isterseniz sitemiz üzerinden üyelik formu doldurabilirsiniz. Sonrasında sıranız geldiğinde sizinle whatsapp üzerinden iletişime geçeceğiz. Ancak kulübe alınmadan önce kulüp ortamını görmek ve kulüple tanışmak isterseniz kontenjanımızın uygun olması durumunda toplantılarımıza sınırlı sayıda misafir kabul edebiliyoruz. Daha detaylı bilgi almak isterseniz 0533 620 89 14 numaralı telefondan kulüp Koordinatörümüz Burhan Bey’e ulaşabilirsiniz. Sorularınızı yanitlayacaktir.
URL:https://istanbuledebiyatkulubu.org/etkinlik/sefiller-taksim-akm-sahnesi/
END:VEVENT
END:VCALENDAR