BEGIN:VCALENDAR
VERSION:2.0
PRODID:-//İstanbul Edebiyat Kulübü - ECPv6.5.0.1//NONSGML v1.0//EN
CALSCALE:GREGORIAN
METHOD:PUBLISH
X-ORIGINAL-URL:https://istanbuledebiyatkulubu.org
X-WR-CALDESC:İstanbul Edebiyat Kulübü için etkinlikler
REFRESH-INTERVAL;VALUE=DURATION:PT1H
X-Robots-Tag:noindex
X-PUBLISHED-TTL:PT1H
BEGIN:VTIMEZONE
TZID:UTC
BEGIN:STANDARD
TZOFFSETFROM:+0000
TZOFFSETTO:+0000
TZNAME:UTC
DTSTART:20250101T000000
END:STANDARD
END:VTIMEZONE
BEGIN:VEVENT
DTSTART;TZID=UTC:20251101T200000
DTEND;TZID=UTC:20251101T233000
DTSTAMP:20260420T000504
CREATED:20251013T062124Z
LAST-MODIFIED:20251013T062124Z
UID:1504-1762027200-1762039800@istanbuledebiyatkulubu.org
SUMMARY:Ağrı Dağı Efsanesi- Muhsin Ertuğrul Sahnesi
DESCRIPTION:Etkinliklerimize sadece kulup üyelerimiz katilabilmektedir. Sizler de kulübümüzün bir parçası olmak isterseniz sitemiz üzerinden üyelik formu doldurabilirsiniz. Sonrasında sıranız geldiğinde sizinle whatsapp üzerinden iletişime geçeceğiz. Ancak kulübe alınmadan önce kulüp ortamını görmek ve kulüple tanışmak isterseniz kontenjanımızın uygun olması durumunda toplantılarımıza sınırlı sayıda misafir kabul edebiliyoruz. Daha detaylı bilgi almak isterseniz 0533 620 89 14 numaralı telefondan kulüp Koordinatörümüz Burhan Bey’e ulaşabilirsiniz. Sorularınızı yanitlayacaktir.
URL:https://istanbuledebiyatkulubu.org/etkinlik/agri-dagi-efsanesi-muhsin-ertugrul-sahnesi/
END:VEVENT
BEGIN:VEVENT
DTSTART;TZID=UTC:20251102T153000
DTEND;TZID=UTC:20251102T190000
DTSTAMP:20260420T000504
CREATED:20251013T062319Z
LAST-MODIFIED:20251013T062319Z
UID:1506-1762097400-1762110000@istanbuledebiyatkulubu.org
SUMMARY:Niteliksiz Adam- Robert Musil
DESCRIPTION:Etkinliklerimize sadece kulup üyelerimiz katilabilmektedir. Sizler de kulübümüzün bir parçası olmak isterseniz sitemiz üzerinden üyelik formu doldurabilirsiniz. Sonrasında sıranız geldiğinde sizinle whatsapp üzerinden iletişime geçeceğiz. Ancak kulübe alınmadan önce kulüp ortamını görmek ve kulüple tanışmak isterseniz kontenjanımızın uygun olması durumunda toplantılarımıza sınırlı sayıda misafir kabul edebiliyoruz. Daha detaylı bilgi almak isterseniz 0533 620 89 14 numaralı telefondan kulüp Koordinatörümüz Burhan Bey’e ulaşabilirsiniz. Sorularınızı yanitlayacaktir.
URL:https://istanbuledebiyatkulubu.org/etkinlik/niteliksiz-adam-robert-musil/
END:VEVENT
BEGIN:VEVENT
DTSTART;TZID=UTC:20251109T153000
DTEND;TZID=UTC:20251109T170000
DTSTAMP:20260420T000504
CREATED:20251104T080432Z
LAST-MODIFIED:20251104T080432Z
UID:1511-1762702200-1762707600@istanbuledebiyatkulubu.org
SUMMARY:Old Fools- Alan Kadıköy Sahnesi
DESCRIPTION:Etkinliklerimize sadece kulup üyelerimiz katilabilmektedir. Sizler de kulübümüzün bir parçası olmak isterseniz sitemiz adresi üzerinden üyelik formu doldurabilirsiniz. Sonrasında sıranız geldiğinde sizinle whatsapp üzerinden iletişime geçeceğiz. Ancak kulübe alınmadan önce kulüp ortamını görmek ve kulüple tanışmak isterseniz kontenjanımızın uygun olması durumunda toplantılarımıza sınırlı sayıda misafir kabul edebiliyoruz. Daha detaylı bilgi almak isterseniz 0533 620 89 14 numaralı telefondan kulüp Koordinatörümüz Burhan Bey’e ulaşabilirsiniz.
URL:https://istanbuledebiyatkulubu.org/etkinlik/old-fools-alan-kadikoy-sahnesi-2/
END:VEVENT
BEGIN:VEVENT
DTSTART;TZID=UTC:20251110T203000
DTEND;TZID=UTC:20251110T230000
DTSTAMP:20260420T000504
CREATED:20251013T062411Z
LAST-MODIFIED:20251013T062411Z
UID:1508-1762806600-1762815600@istanbuledebiyatkulubu.org
SUMMARY:En Sevdiğinden Başla- Kadıköy Boa Sahne
DESCRIPTION:Etkinliklerimize sadece kulup üyelerimiz katilabilmektedir. Sizler de kulübümüzün bir parçası olmak isterseniz sitemiz üzerinden üyelik formu doldurabilirsiniz. Sonrasında sıranız geldiğinde sizinle whatsapp üzerinden iletişime geçeceğiz. Ancak kulübe alınmadan önce kulüp ortamını görmek ve kulüple tanışmak isterseniz kontenjanımızın uygun olması durumunda toplantılarımıza sınırlı sayıda misafir kabul edebiliyoruz. Daha detaylı bilgi almak isterseniz 0533 620 89 14 numaralı telefondan kulüp Koordinatörümüz Burhan Bey’e ulaşabilirsiniz. Sorularınızı yanitlayacaktir.
URL:https://istanbuledebiyatkulubu.org/etkinlik/en-sevdiginden-basla-kadikoy-boa-sahne-2/
END:VEVENT
BEGIN:VEVENT
DTSTART;TZID=UTC:20251111T203000
DTEND;TZID=UTC:20251111T203000
DTSTAMP:20260420T000504
CREATED:20251104T080822Z
LAST-MODIFIED:20251104T080837Z
UID:1519-1762893000-1762893000@istanbuledebiyatkulubu.org
SUMMARY:Sait Faik Hikaye Dinletisi- İş Sanat Kuleleri Sahnesi
DESCRIPTION:Etkinliklerimize sadece kulup üyelerimiz katilabilmektedir. Sizler de kulübümüzün bir parçası olmak isterseniz sitemiz adresi üzerinden üyelik formu doldurabilirsiniz. Sonrasında sıranız geldiğinde sizinle whatsapp üzerinden iletişime geçeceğiz. Ancak kulübe alınmadan önce kulüp ortamını görmek ve kulüple tanışmak isterseniz kontenjanımızın uygun olması durumunda toplantılarımıza sınırlı sayıda misafir kabul edebiliyoruz. Daha detaylı bilgi almak isterseniz 0533 620 89 14 numaralı telefondan kulüp Koordinatörümüz Burhan Bey’e ulaşabilirsiniz.
URL:https://istanbuledebiyatkulubu.org/etkinlik/sait-faik-hikaye-dinletisi-is-sanat-kuleleri-sahnesi-2/
END:VEVENT
BEGIN:VEVENT
DTSTART;TZID=UTC:20251114T200000
DTEND;TZID=UTC:20251114T200000
DTSTAMP:20260420T000504
CREATED:20251104T080608Z
LAST-MODIFIED:20251104T080733Z
UID:1515-1763150400-1763150400@istanbuledebiyatkulubu.org
SUMMARY:Fosforlu Cevriye- Harbiye Muhsin Ertuğrul Sahnesi
DESCRIPTION:Etkinliklerimize sadece kulup üyelerimiz katilabilmektedir. Sizler de kulübümüzün bir parçası olmak isterseniz sitemiz adresi üzerinden üyelik formu doldurabilirsiniz. Sonrasında sıranız geldiğinde sizinle whatsapp üzerinden iletişime geçeceğiz. Ancak kulübe alınmadan önce kulüp ortamını görmek ve kulüple tanışmak isterseniz kontenjanımızın uygun olması durumunda toplantılarımıza sınırlı sayıda misafir kabul edebiliyoruz. Daha detaylı bilgi almak isterseniz 0533 620 89 14 numaralı telefondan kulüp Koordinatörümüz Burhan Bey’e ulaşabilirsiniz.
URL:https://istanbuledebiyatkulubu.org/etkinlik/fosforlu-cevriye-harbiye-muhsin-ertugrul-sahnesi-2/
END:VEVENT
BEGIN:VEVENT
DTSTART;TZID=UTC:20251115T150000
DTEND;TZID=UTC:20251115T170000
DTSTAMP:20260420T000504
CREATED:20251104T081109Z
LAST-MODIFIED:20251104T081114Z
UID:1521-1763218800-1763226000@istanbuledebiyatkulubu.org
SUMMARY:Profesyonel- Taksim AKM Sahnesi
DESCRIPTION:Etkinliklerimize sadece kulup üyelerimiz katilabilmektedir. Sizler de kulübümüzün bir parçası olmak isterseniz sitemiz adresi üzerinden üyelik formu doldurabilirsiniz. Sonrasında sıranız geldiğinde sizinle whatsapp üzerinden iletişime geçeceğiz. Ancak kulübe alınmadan önce kulüp ortamını görmek ve kulüple tanışmak isterseniz kontenjanımızın uygun olması durumunda toplantılarımıza sınırlı sayıda misafir kabul edebiliyoruz. Daha detaylı bilgi almak isterseniz 0533 620 89 14 numaralı telefondan kulüp Koordinatörümüz Burhan Bey’e ulaşabilirsiniz.
URL:https://istanbuledebiyatkulubu.org/etkinlik/profesyonel-taksim-akm-sahnesi/
END:VEVENT
BEGIN:VEVENT
DTSTART;TZID=UTC:20251119T203000
DTEND;TZID=UTC:20251119T203000
DTSTAMP:20260420T000504
CREATED:20251104T081210Z
LAST-MODIFIED:20251104T081213Z
UID:1523-1763584200-1763584200@istanbuledebiyatkulubu.org
SUMMARY:Baba- Kadıköy Oyun Atölyesi
DESCRIPTION:Etkinliklerimize sadece kulup üyelerimiz katilabilmektedir. Sizler de kulübümüzün bir parçası olmak isterseniz sitemiz adresi üzerinden üyelik formu doldurabilirsiniz. Sonrasında sıranız geldiğinde sizinle whatsapp üzerinden iletişime geçeceğiz. Ancak kulübe alınmadan önce kulüp ortamını görmek ve kulüple tanışmak isterseniz kontenjanımızın uygun olması durumunda toplantılarımıza sınırlı sayıda misafir kabul edebiliyoruz. Daha detaylı bilgi almak isterseniz 0533 620 89 14 numaralı telefondan kulüp Koordinatörümüz Burhan Bey’e ulaşabilirsiniz.
URL:https://istanbuledebiyatkulubu.org/etkinlik/baba-kadikoy-oyun-atolyesi-2/
END:VEVENT
BEGIN:VEVENT
DTSTART;TZID=UTC:20251130T153000
DTEND;TZID=UTC:20251130T170000
DTSTAMP:20260420T000504
CREATED:20251104T081256Z
LAST-MODIFIED:20251104T081300Z
UID:1525-1764516600-1764522000@istanbuledebiyatkulubu.org
SUMMARY:Faust - J.W. Goethe
DESCRIPTION:Etkinliklerimize sadece kulup üyelerimiz katilabilmektedir. Sizler de kulübümüzün bir parçası olmak isterseniz sitemiz adresi üzerinden üyelik formu doldurabilirsiniz. Sonrasında sıranız geldiğinde sizinle whatsapp üzerinden iletişime geçeceğiz. Ancak kulübe alınmadan önce kulüp ortamını görmek ve kulüple tanışmak isterseniz kontenjanımızın uygun olması durumunda toplantılarımıza sınırlı sayıda misafir kabul edebiliyoruz. Daha detaylı bilgi almak isterseniz 0533 620 89 14 numaralı telefondan kulüp Koordinatörümüz Burhan Bey’e ulaşabilirsiniz.
URL:https://istanbuledebiyatkulubu.org/etkinlik/faust-j-w-goethe/
END:VEVENT
END:VCALENDAR