BEGIN:VCALENDAR
VERSION:2.0
PRODID:-//İstanbul Edebiyat Kulübü - ECPv6.5.0.1//NONSGML v1.0//EN
CALSCALE:GREGORIAN
METHOD:PUBLISH
X-ORIGINAL-URL:https://istanbuledebiyatkulubu.org
X-WR-CALDESC:İstanbul Edebiyat Kulübü için etkinlikler
REFRESH-INTERVAL;VALUE=DURATION:PT1H
X-Robots-Tag:noindex
X-PUBLISHED-TTL:PT1H
BEGIN:VTIMEZONE
TZID:UTC
BEGIN:STANDARD
TZOFFSETFROM:+0000
TZOFFSETTO:+0000
TZNAME:UTC
DTSTART:20260101T000000
END:STANDARD
END:VTIMEZONE
BEGIN:VEVENT
DTSTART;TZID=UTC:20260103T200000
DTEND;TZID=UTC:20260103T223000
DTSTAMP:20260419T201922
CREATED:20251212T075435Z
LAST-MODIFIED:20251212T075438Z
UID:1548-1767470400-1767479400@istanbuledebiyatkulubu.org
SUMMARY:Yeni Yıl Konseri- Taksim AKM Sahnesi
DESCRIPTION:Etkinliklerimize sadece kulup üyelerimiz katilabilmektedir. Sizler de kulübümüzün bir parçası olmak isterseniz sitemiz adresi üzerinden üyelik formu doldurabilirsiniz. Sonrasında sıranız geldiğinde sizinle whatsapp üzerinden iletişime geçeceğiz. Ancak kulübe alınmadan önce kulüp ortamını görmek ve kulüple tanışmak isterseniz kontenjanımızın uygun olması durumunda toplantılarımıza sınırlı sayıda misafir kabul edebiliyoruz. Daha detaylı bilgi almak isterseniz 0533 620 89 14 numaralı telefondan kulüp Koordinatörümüz Burhan Bey’e ulaşabilirsiniz.
URL:https://istanbuledebiyatkulubu.org/etkinlik/yeni-yil-konseri-taksim-akm-sahnesi/
END:VEVENT
BEGIN:VEVENT
DTSTART;TZID=UTC:20260105T203000
DTEND;TZID=UTC:20260105T230000
DTSTAMP:20260419T201922
CREATED:20251212T075526Z
LAST-MODIFIED:20251212T075530Z
UID:1550-1767645000-1767654000@istanbuledebiyatkulubu.org
SUMMARY:Aşağıdaki Pencere- Kadikoy Boa Sahne
DESCRIPTION:Etkinliklerimize sadece kulup üyelerimiz katilabilmektedir. Sizler de kulübümüzün bir parçası olmak isterseniz sitemiz adresi üzerinden üyelik formu doldurabilirsiniz. Sonrasında sıranız geldiğinde sizinle whatsapp üzerinden iletişime geçeceğiz. Ancak kulübe alınmadan önce kulüp ortamını görmek ve kulüple tanışmak isterseniz kontenjanımızın uygun olması durumunda toplantılarımıza sınırlı sayıda misafir kabul edebiliyoruz. Daha detaylı bilgi almak isterseniz 0533 620 89 14 numaralı telefondan kulüp Koordinatörümüz Burhan Bey’e ulaşabilirsiniz.
URL:https://istanbuledebiyatkulubu.org/etkinlik/asagidaki-pencere-kadikoy-boa-sahne/
END:VEVENT
BEGIN:VEVENT
DTSTART;TZID=UTC:20260111T153000
DTEND;TZID=UTC:20260111T190000
DTSTAMP:20260419T201922
CREATED:20251212T075625Z
LAST-MODIFIED:20251212T075630Z
UID:1553-1768145400-1768158000@istanbuledebiyatkulubu.org
SUMMARY:Palyaço- Heinrich Böll
DESCRIPTION:Etkinliklerimize sadece kulup üyelerimiz katilabilmektedir. Sizler de kulübümüzün bir parçası olmak isterseniz sitemiz adresi üzerinden üyelik formu doldurabilirsiniz. Sonrasında sıranız geldiğinde sizinle whatsapp üzerinden iletişime geçeceğiz. Ancak kulübe alınmadan önce kulüp ortamını görmek ve kulüple tanışmak isterseniz kontenjanımızın uygun olması durumunda toplantılarımıza sınırlı sayıda misafir kabul edebiliyoruz. Daha detaylı bilgi almak isterseniz 0533 620 89 14 numaralı telefondan kulüp Koordinatörümüz Burhan Bey’e ulaşabilirsiniz.
URL:https://istanbuledebiyatkulubu.org/etkinlik/palyaco-heinrich-boll/
END:VEVENT
BEGIN:VEVENT
DTSTART;TZID=UTC:20260116T203000
DTEND;TZID=UTC:20260116T223000
DTSTAMP:20260419T201922
CREATED:20260113T132615Z
LAST-MODIFIED:20260113T132615Z
UID:1558-1768595400-1768602600@istanbuledebiyatkulubu.org
SUMMARY:Filler ve Karıncalar- Cihangir Atölye Sahnesi
DESCRIPTION:Etkinliklerimize sadece kulup üyelerimiz katilabilmektedir. Sizler de kulübümüzün bir parçası olmak isterseniz sitemiz üzerinden üyelik formu doldurabilirsiniz. Sonrasında sıranız geldiğinde sizinle whatsapp üzerinden iletişime geçeceğiz. Ancak kulübe alınmadan önce kulüp ortamını görmek ve kulüple tanışmak isterseniz kontenjanımızın uygun olması durumunda toplantılarımıza sınırlı sayıda misafir kabul edebiliyoruz. Daha detaylı bilgi almak isterseniz 0533 620 89 14 numaralı telefondan kulüp Koordinatörümüz Burhan Bey’e ulaşabilirsiniz. Sorularınızı yanitlayacaktir.
URL:https://istanbuledebiyatkulubu.org/etkinlik/filler-ve-karincalar-cihangir-atolye-sahnesi-2/
END:VEVENT
BEGIN:VEVENT
DTSTART;TZID=UTC:20260123T200000
DTEND;TZID=UTC:20260123T230000
DTSTAMP:20260419T201922
CREATED:20260113T132707Z
LAST-MODIFIED:20260113T132707Z
UID:1560-1769198400-1769209200@istanbuledebiyatkulubu.org
SUMMARY:Geçmişin Gölgesi- Kadikoy Müze Gazhane Sahnesi
DESCRIPTION:Etkinliklerimize sadece kulup üyelerimiz katilabilmektedir. Sizler de kulübümüzün bir parçası olmak isterseniz sitemiz üzerinden üyelik formu doldurabilirsiniz. Sonrasında sıranız geldiğinde sizinle whatsapp üzerinden iletişime geçeceğiz. Ancak kulübe alınmadan önce kulüp ortamını görmek ve kulüple tanışmak isterseniz kontenjanımızın uygun olması durumunda toplantılarımıza sınırlı sayıda misafir kabul edebiliyoruz. Daha detaylı bilgi almak isterseniz 0533 620 89 14 numaralı telefondan kulüp Koordinatörümüz Burhan Bey’e ulaşabilirsiniz. Sorularınızı yanitlayacaktir.
URL:https://istanbuledebiyatkulubu.org/etkinlik/gecmisin-golgesi-kadikoy-muze-gazhane-sahnesi/
END:VEVENT
BEGIN:VEVENT
DTSTART;TZID=UTC:20260130T200000
DTEND;TZID=UTC:20260130T230000
DTSTAMP:20260419T201922
CREATED:20260113T132746Z
LAST-MODIFIED:20260113T132746Z
UID:1562-1769803200-1769814000@istanbuledebiyatkulubu.org
SUMMARY:Faust- Mecidiyeköy Büyük Sahne
DESCRIPTION:Etkinliklerimize sadece kulup üyelerimiz katilabilmektedir. Sizler de kulübümüzün bir parçası olmak isterseniz sitemiz üzerinden üyelik formu doldurabilirsiniz. Sonrasında sıranız geldiğinde sizinle whatsapp üzerinden iletişime geçeceğiz. Ancak kulübe alınmadan önce kulüp ortamını görmek ve kulüple tanışmak isterseniz kontenjanımızın uygun olması durumunda toplantılarımıza sınırlı sayıda misafir kabul edebiliyoruz. Daha detaylı bilgi almak isterseniz 0533 620 89 14 numaralı telefondan kulüp Koordinatörümüz Burhan Bey’e ulaşabilirsiniz. Sorularınızı yanitlayacaktir.
URL:https://istanbuledebiyatkulubu.org/etkinlik/faust-mecidiyekoy-buyuk-sahne/
END:VEVENT
END:VCALENDAR