BEGIN:VCALENDAR
VERSION:2.0
PRODID:-//İstanbul Edebiyat Kulübü - ECPv6.5.0.1//NONSGML v1.0//EN
CALSCALE:GREGORIAN
METHOD:PUBLISH
X-ORIGINAL-URL:https://istanbuledebiyatkulubu.org
X-WR-CALDESC:İstanbul Edebiyat Kulübü için etkinlikler
REFRESH-INTERVAL;VALUE=DURATION:PT1H
X-Robots-Tag:noindex
X-PUBLISHED-TTL:PT1H
BEGIN:VTIMEZONE
TZID:UTC
BEGIN:STANDARD
TZOFFSETFROM:+0000
TZOFFSETTO:+0000
TZNAME:UTC
DTSTART:20260101T000000
END:STANDARD
END:VTIMEZONE
BEGIN:VEVENT
DTSTART;TZID=UTC:20260302T200000
DTEND;TZID=UTC:20260302T220000
DTSTAMP:20260419T165205
CREATED:20260306T053813Z
LAST-MODIFIED:20260306T053813Z
UID:1575-1772481600-1772488800@istanbuledebiyatkulubu.org
SUMMARY:Uyku\, Ölüm\, Dondurma\, Ülke
DESCRIPTION:Etkinliklerimize sadece kulup üyelerimiz katilabilmektedir. Sizler de kulübümüzün bir parçası olmak isterseniz sitemiz üzerinden üyelik formu doldurabilirsiniz. Sonrasında sıranız geldiğinde sizinle whatsapp üzerinden iletişime geçeceğiz. Ancak kulübe alınmadan önce kulüp ortamını görmek ve kulüple tanışmak isterseniz kontenjanımızın uygun olması durumunda toplantılarımıza sınırlı sayıda misafir kabul edebiliyoruz. Daha detaylı bilgi almak isterseniz 0533 620 89 14 numaralı telefondan kulüp Koordinatörümüz Burhan Bey’e ulaşabilirsiniz. Sorularınızı yanitlayacaktir.
URL:https://istanbuledebiyatkulubu.org/etkinlik/uyku-olum-dondurma-ulke/
END:VEVENT
BEGIN:VEVENT
DTSTART;TZID=UTC:20260306T200000
DTEND;TZID=UTC:20260306T220000
DTSTAMP:20260419T165205
CREATED:20260306T054036Z
LAST-MODIFIED:20260306T054036Z
UID:1577-1772827200-1772834400@istanbuledebiyatkulubu.org
SUMMARY:Bir Ata Krallığım- Üsküdar Muhasipzade Sahnesi
DESCRIPTION:Etkinliklerimize sadece kulup üyelerimiz katilabilmektedir. Sizler de kulübümüzün bir parçası olmak isterseniz sitemiz üzerinden üyelik formu doldurabilirsiniz. Sonrasında sıranız geldiğinde sizinle whatsapp üzerinden iletişime geçeceğiz. Ancak kulübe alınmadan önce kulüp ortamını görmek ve kulüple tanışmak isterseniz kontenjanımızın uygun olması durumunda toplantılarımıza sınırlı sayıda misafir kabul edebiliyoruz. Daha detaylı bilgi almak isterseniz 0533 620 89 14 numaralı telefondan kulüp Koordinatörümüz Burhan Bey’e ulaşabilirsiniz. Sorularınızı yanitlayacaktir.
URL:https://istanbuledebiyatkulubu.org/etkinlik/bir-ata-kralligim-uskudar-muhasipzade-sahnesi/
END:VEVENT
BEGIN:VEVENT
DTSTART;TZID=UTC:20260308T140000
DTEND;TZID=UTC:20260308T170000
DTSTAMP:20260419T165205
CREATED:20260306T054130Z
LAST-MODIFIED:20260306T054130Z
UID:1579-1772978400-1772989200@istanbuledebiyatkulubu.org
SUMMARY:Öylesine Bir Sevgili&Cevizin Şarkısı- Aslı Tohumcu ( Yazarın Katılımıyla )
DESCRIPTION:Etkinliklerimize sadece kulup üyelerimiz katilabilmektedir. Sizler de kulübümüzün bir parçası olmak isterseniz sitemiz üzerinden üyelik formu doldurabilirsiniz. Sonrasında sıranız geldiğinde sizinle whatsapp üzerinden iletişime geçeceğiz. Ancak kulübe alınmadan önce kulüp ortamını görmek ve kulüple tanışmak isterseniz kontenjanımızın uygun olması durumunda toplantılarımıza sınırlı sayıda misafir kabul edebiliyoruz. Daha detaylı bilgi almak isterseniz 0533 620 89 14 numaralı telefondan kulüp Koordinatörümüz Burhan Bey’e ulaşabilirsiniz. Sorularınızı yanitlayacaktir.
URL:https://istanbuledebiyatkulubu.org/etkinlik/oylesine-bir-sevgilicevizin-sarkisi-asli-tohumcu-yazarin-katilimiyla/
END:VEVENT
BEGIN:VEVENT
DTSTART;TZID=UTC:20260315T183000
DTEND;TZID=UTC:20260315T223000
DTSTAMP:20260419T165205
CREATED:20260306T054245Z
LAST-MODIFIED:20260306T054608Z
UID:1581-1773599400-1773613800@istanbuledebiyatkulubu.org
SUMMARY:İEK Geleneksel İftar Yemeği &Muhabbet- Üsküdar
DESCRIPTION:Etkinliklerimize sadece kulup üyelerimiz katilabilmektedir. Sizler de kulübümüzün bir parçası olmak isterseniz sitemiz üzerinden üyelik formu doldurabilirsiniz. Sonrasında sıranız geldiğinde sizinle whatsapp üzerinden iletişime geçeceğiz. Ancak kulübe alınmadan önce kulüp ortamını görmek ve kulüple tanışmak isterseniz kontenjanımızın uygun olması durumunda toplantılarımıza sınırlı sayıda misafir kabul edebiliyoruz. Daha detaylı bilgi almak isterseniz 0533 620 89 14 numaralı telefondan kulüp Koordinatörümüz Burhan Bey’e ulaşabilirsiniz. Sorularınızı yanitlayacaktir.
URL:https://istanbuledebiyatkulubu.org/etkinlik/iftar-muhabbet-uskudar/
END:VEVENT
BEGIN:VEVENT
DTSTART;TZID=UTC:20260326T203000
DTEND;TZID=UTC:20260326T223000
DTSTAMP:20260419T165205
CREATED:20260306T054400Z
LAST-MODIFIED:20260306T054400Z
UID:1583-1774557000-1774564200@istanbuledebiyatkulubu.org
SUMMARY:Jan Dark'ın Öteki Ölümü- Alan Kadıköy Sahnesi
DESCRIPTION:Etkinliklerimize sadece kulup üyelerimiz katilabilmektedir. Sizler de kulübümüzün bir parçası olmak isterseniz sitemiz üzerinden üyelik formu doldurabilirsiniz. Sonrasında sıranız geldiğinde sizinle whatsapp üzerinden iletişime geçeceğiz. Ancak kulübe alınmadan önce kulüp ortamını görmek ve kulüple tanışmak isterseniz kontenjanımızın uygun olması durumunda toplantılarımıza sınırlı sayıda misafir kabul edebiliyoruz. Daha detaylı bilgi almak isterseniz 0533 620 89 14 numaralı telefondan kulüp Koordinatörümüz Burhan Bey’e ulaşabilirsiniz. Sorularınızı yanitlayacaktir.
URL:https://istanbuledebiyatkulubu.org/etkinlik/jan-darkin-oteki-olumu-alan-kadikoy-sahnesi/
END:VEVENT
BEGIN:VEVENT
DTSTART;TZID=UTC:20260329T150000
DTEND;TZID=UTC:20260329T183000
DTSTAMP:20260419T165205
CREATED:20260306T054457Z
LAST-MODIFIED:20260306T054457Z
UID:1585-1774796400-1774809000@istanbuledebiyatkulubu.org
SUMMARY:Gün Olur Asra Bedel & Toprak Ana- Cengiz Aytmatov
DESCRIPTION:Etkinliklerimize sadece kulup üyelerimiz katilabilmektedir. Sizler de kulübümüzün bir parçası olmak isterseniz sitemiz üzerinden üyelik formu doldurabilirsiniz. Sonrasında sıranız geldiğinde sizinle whatsapp üzerinden iletişime geçeceğiz. Ancak kulübe alınmadan önce kulüp ortamını görmek ve kulüple tanışmak isterseniz kontenjanımızın uygun olması durumunda toplantılarımıza sınırlı sayıda misafir kabul edebiliyoruz. Daha detaylı bilgi almak isterseniz 0533 620 89 14 numaralı telefondan kulüp Koordinatörümüz Burhan Bey’e ulaşabilirsiniz. Sorularınızı yanitlayacaktir.
URL:https://istanbuledebiyatkulubu.org/etkinlik/gun-olur-asra-bedel-toprak-ana-cengiz-aytmatov/
END:VEVENT
END:VCALENDAR